BEGIN:VCALENDAR
VERSION:2.0
PRODID:-//SportzFunda - ECPv6.10.0//NONSGML v1.0//EN
CALSCALE:GREGORIAN
METHOD:PUBLISH
X-WR-CALNAME:SportzFunda
X-ORIGINAL-URL:https://sportzfundashop.com
X-WR-CALDESC:Events for SportzFunda
REFRESH-INTERVAL;VALUE=DURATION:PT1H
X-Robots-Tag:noindex
X-PUBLISHED-TTL:PT1H
BEGIN:VTIMEZONE
TZID:Asia/Kolkata
BEGIN:STANDARD
TZOFFSETFROM:+0530
TZOFFSETTO:+0530
TZNAME:IST
DTSTART:20250101T000000
END:STANDARD
END:VTIMEZONE
BEGIN:VEVENT
DTSTART;VALUE=DATE:20250113
DTEND;VALUE=DATE:20250119
DTSTAMP:20260425T204309
CREATED:20250109T050842Z
LAST-MODIFIED:20250109T173011Z
UID:1637-1736726400-1737244799@sportzfundashop.com
SUMMARY:5th Air Rifle & Air Pistol Sponsorship Program - 2025 HELD AT DR. KARNI SINGH SHOOTING RANGE
DESCRIPTION:Air Rifle & Air Pistol Sponsorship Program 2025  \nTo                                                                                                                                                                                              20 December 2024 \nAll Shooters / Coaches All Shooting Academies / Clubs Dear\, \nWe are pleased to inform that SportsForAll 5th Air Pistol & Air Rifle Sponsorship Program 2025 in ISSF & NR category will be organised at Dr. Karni Singh Shooting Range\, Tughlakabad\, New Delhi from 13 – 18 January 2025.\nAll shooters / Academies / Coaches are cordially invited for this initiative. We have divided Sponsorship in three parts\, Our motive to provide platform to our young shooters (Services\, Sponsored & Non-Sponsored) & also Recognise hard work of Coaches. \nHead of the JURY  \nMr G D SHARMA\nCaptain (Retd) Indian Army Ex\nCoach Indian Shooting Team\nPh no- 07838199910 \nDownload Circular
URL:https://sportzfundashop.com/event/5th-air-rifle-air-pistol-sponsorship-program-2025-held-at-dr-karni-singh-shooting-range-download-circular/
LOCATION:Dr Karni Singh Shooting Range\, Dr. Karni Singh Shooting range\, New Delhi\, Delhi\, 110005\, India
ORGANIZER;CN="SportsForAll":MAILTO:1sportsforall@gmail.com
END:VEVENT
END:VCALENDAR